View In:
ArcGIS JavaScript
ArcGIS Online Map Viewer
ArcGIS Earth
ArcMap
View Footprint In:
ArcGIS Online Map Viewer
Service Description: _Demo/MDTA_BHT_DBO_T1_TA12_Page_07
Name: _Demo/MDTA_BHT_DBO_T1_TA12_Page_07
Description:
Single Fused Map Cache: false
Extent:
XMin: 1391649.1387939428
YMin: 565269.3088902322
XMax: 1393798.5951598124
YMax: 567215.9826212537
Spatial Reference: 102685
(2248)
Initial Extent:
XMin: 1391649.1387939428
YMin: 565269.3088902322
XMax: 1393798.5951598124
YMax: 567215.9826212537
Spatial Reference: 102685
(2248)
Full Extent:
XMin: 1391649.1387939428
YMin: 565269.3088902322
XMax: 1393798.5951598124
YMax: 567215.9826212537
Spatial Reference: 102685
(2248)
Pixel Size X: 0.4214620325234536
Pixel Size Y: 0.5906170300429208
Band Count: 3
Pixel Type: U8
RasterFunction Infos: {"rasterFunctionInfos": [{
"name": "None",
"description": "",
"help": ""
}]}
Mensuration Capabilities: Basic
Has Histograms: true
Has Colormap: false
Has Multi Dimensions : false
Rendering Rule:
Min Scale: 0
Max Scale: 0
Copyright Text:
Service Data Type: esriImageServiceDataTypeRGB
Min Values: 0, 0, 0
Max Values: 255, 255, 255
Mean Values: 239.05233842566153, 238.6059337223967, 238.24475349403517
Standard Deviation Values: 52.653358206339334, 53.04519909279135, 53.62615602694368
Object ID Field:
Fields:
None
Default Mosaic Method: Center
Allowed Mosaic Methods:
SortField:
SortValue: null
Mosaic Operator: First
Default Compression Quality: 75
Default Resampling Method: Bilinear
Max Record Count: null
Max Image Height: 4100
Max Image Width: 15000
Max Download Image Count: null
Max Mosaic Image Count: null
Allow Raster Function: true
Allow Copy: null
Allow Analysis: null
Allow Compute TiePoints: false
Supports Statistics: false
Supports Advanced Queries: false
Use StandardizedQueries: true
Raster Type Infos:
Name: Raster Dataset
Description: Supports all ArcGIS Raster Datasets
Help:
Has Raster Attribute Table: false
Edit Fields Info: null
Ownership Based AccessControl For Rasters: null
Child Resources:
Info
Histograms
Key Properties
Legend
Raster Function Infos
Supported Operations:
Export Image
Identify
Measure
Compute Histograms
Compute Statistics Histograms
Get Samples
Compute Class Statistics
Query Boundary
Compute Pixel Location
Validate
Project