View In:
ArcGIS JavaScript
ArcGIS Online Map Viewer
ArcGIS Earth
ArcMap
View Footprint In:
ArcGIS Online Map Viewer
Service Description: PSEG GSOE Seabed Forms
Name: PSEG_GSOE/PSEG_GSOE_OffshoreWind_DBO_Seabed_Forms
Description: PSEG GSOE Seabed Forms
Single Fused Map Cache: false
Extent:
XMin: -75.55144216599996
YMin: 38.33359768300005
XMax: -73.45758293699998
YMax: 39.802667589000066
Spatial Reference: 4326
(4326)
Initial Extent:
XMin: -75.55144216599996
YMin: 38.33359768300005
XMax: -73.45758293699998
YMax: 39.802667589000066
Spatial Reference: 4326
(4326)
Full Extent:
XMin: -75.55144216599996
YMin: 38.33359768300005
XMax: -73.45758293699998
YMax: 39.802667589000066
Spatial Reference: 4326
(4326)
Pixel Size X: 0.001066119770366586
Pixel Size Y: 0.0010660884658926094
Band Count: 1
Pixel Type: U8
RasterFunction Infos: {"rasterFunctionInfos": [{
"name": "None",
"description": "",
"help": ""
}]}
Mensuration Capabilities: Basic
Has Histograms: true
Has Colormap: false
Has Multi Dimensions : false
Rendering Rule:
Min Scale: 0
Max Scale: 0
Copyright Text:
Service Data Type: esriImageServiceDataTypeGeneric
Min Values: 1
Max Values: 7
Mean Values: 1.848253140229254
Standard Deviation Values: 0.7960217870338774
Object ID Field:
Fields:
None
Default Mosaic Method: Center
Allowed Mosaic Methods:
SortField:
SortValue: null
Mosaic Operator: First
Default Compression Quality: 75
Default Resampling Method: Bilinear
Max Record Count: null
Max Image Height: 4100
Max Image Width: 15000
Max Download Image Count: null
Max Mosaic Image Count: null
Allow Raster Function: true
Allow Copy: null
Allow Analysis: null
Allow Compute TiePoints: false
Supports Statistics: false
Supports Advanced Queries: false
Use StandardizedQueries: true
Raster Type Infos:
Name: Raster Dataset
Description: Supports all ArcGIS Raster Datasets
Help:
Has Raster Attribute Table: true
Edit Fields Info: null
Ownership Based AccessControl For Rasters: null
Child Resources:
Info
Raster Attribute Table
Histograms
Key Properties
Legend
Raster Function Infos
Supported Operations:
Export Image
Identify
Measure
Compute Histograms
Compute Statistics Histograms
Get Samples
Compute Class Statistics
Query Boundary
Compute Pixel Location
Validate
Project