View In:
ArcGIS JavaScript
ArcGIS Online Map Viewer
ArcGIS Earth
ArcMap
View Footprint In:
ArcGIS Online Map Viewer
Service Description: DEM
Name: NC_Smithfield_Resiliency/NC_Smithfield_Resiliency_DBO_DEM
Description: DEM
Single Fused Map Cache: false
Extent:
XMin: 2192234.237031549
YMin: 634397.5526698271
XMax: 2201954.239066934
YMax: 643427.5546391273
Spatial Reference: 102719
(2264)
Initial Extent:
XMin: 2192234.237031549
YMin: 634397.5526698271
XMax: 2201954.239066934
YMax: 643427.5546391273
Spatial Reference: 102719
(2264)
Full Extent:
XMin: 2192234.237031549
YMin: 634397.5526698271
XMax: 2201954.239066934
YMax: 643427.5546391273
Spatial Reference: 102719
(2264)
Pixel Size X: 20.000004188034975
Pixel Size Y: 19.977880463053562
Band Count: 1
Pixel Type: F32
RasterFunction Infos: {"rasterFunctionInfos": [{
"name": "None",
"description": "",
"help": ""
}]}
Mensuration Capabilities: Basic
Has Histograms: true
Has Colormap: false
Has Multi Dimensions : false
Rendering Rule:
Min Scale: 0
Max Scale: 0
Copyright Text:
Service Data Type: esriImageServiceDataTypeGeneric
Min Values: 103.177001953125
Max Values: 167.74400329589844
Mean Values: 143.61309195657046
Standard Deviation Values: 6.658454537686024
Object ID Field:
Fields:
None
Default Mosaic Method: Center
Allowed Mosaic Methods:
SortField:
SortValue: null
Mosaic Operator: First
Default Compression Quality: 75
Default Resampling Method: Bilinear
Max Record Count: null
Max Image Height: 4100
Max Image Width: 15000
Max Download Image Count: null
Max Mosaic Image Count: null
Allow Raster Function: true
Allow Copy: null
Allow Analysis: null
Allow Compute TiePoints: false
Supports Statistics: false
Supports Advanced Queries: false
Use StandardizedQueries: true
Raster Type Infos:
Name: Raster Dataset
Description: Supports all ArcGIS Raster Datasets
Help:
Has Raster Attribute Table: false
Edit Fields Info: null
Ownership Based AccessControl For Rasters: null
Child Resources:
Info
Histograms
Key Properties
Legend
Raster Function Infos
Supported Operations:
Export Image
Identify
Measure
Compute Histograms
Compute Statistics Histograms
Get Samples
Compute Class Statistics
Query Boundary
Compute Pixel Location
Validate
Project