View In:
ArcGIS JavaScript
ArcGIS Online Map Viewer
ArcGIS Earth
ArcMap
View Footprint In:
ArcGIS Online Map Viewer
Service Description: NCDOT_HRAT/DBO_RIT_NC_WSEL_100YR
Name: NCDOT_HRAT/DBO_RIT_NC_WSEL_100YR
Description:
Single Fused Map Cache: false
Extent:
XMin: 406830.0001562238
YMin: 29999.999863803387
XMax: 3060000.000156224
YMax: 1043629.9998638034
Spatial Reference: 102719
(2264)
Initial Extent:
XMin: 406830.0001562238
YMin: 29999.999863803387
XMax: 3060000.000156224
YMax: 1043629.9998638034
Spatial Reference: 102719
(2264)
Full Extent:
XMin: 406830.0001562238
YMin: 29999.999863803387
XMax: 3060000.000156224
YMax: 1043629.9998638034
Spatial Reference: 102719
(2264)
Pixel Size X: 10.0
Pixel Size Y: 10.0
Band Count: 1
Pixel Type: F32
RasterFunction Infos: {"rasterFunctionInfos": [{
"name": "None",
"description": "",
"help": ""
}]}
Mensuration Capabilities: Basic
Has Histograms: true
Has Colormap: false
Has Multi Dimensions : false
Rendering Rule:
Min Scale: 0
Max Scale: 0
Copyright Text:
Service Data Type: esriImageServiceDataTypeGeneric
Min Values: 3
Max Values: 4869.10009765625
Mean Values: 187.29966564654012
Standard Deviation Values: 419.6892287534259
Object ID Field:
Fields:
None
Default Mosaic Method: Center
Allowed Mosaic Methods:
SortField:
SortValue: null
Mosaic Operator: First
Default Compression Quality: 75
Default Resampling Method: Bilinear
Max Record Count: null
Max Image Height: 4100
Max Image Width: 15000
Max Download Image Count: null
Max Mosaic Image Count: null
Allow Raster Function: true
Allow Copy: true
Allow Analysis: true
Allow Compute TiePoints: false
Supports Statistics: false
Supports Advanced Queries: false
Use StandardizedQueries: true
Raster Type Infos:
Name: Raster Dataset
Description: Supports all ArcGIS Raster Datasets
Help:
Has Raster Attribute Table: false
Edit Fields Info: null
Ownership Based AccessControl For Rasters: null
Child Resources:
Info
Histograms
Statistics
Key Properties
Legend
Raster Function Infos
Supported Operations:
Export Image
Identify
Measure
Compute Histograms
Compute Statistics Histograms
Get Samples
Compute Class Statistics
Query Boundary
Compute Pixel Location
Validate
Project