View In:
ArcGIS JavaScript
ArcGIS Online Map Viewer
ArcGIS Earth
ArcMap
View Footprint In:
ArcGIS Online Map Viewer
Service Description: NCDOT_HRAT/DBO_CRIS_Coastal_Inundation_05ft
Name: NCDOT_HRAT/DBO_CRIS_Coastal_Inundation_05ft
Description:
Single Fused Map Cache: false
Extent:
XMin: 1975002.8064575046
YMin: 34986.641560688615
XMax: 3052482.8064575046
YMax: 1034996.6415606886
Spatial Reference: 103122
(6543)
Initial Extent:
XMin: 1975002.8064575046
YMin: 34986.641560688615
XMax: 3052482.8064575046
YMax: 1034996.6415606886
Spatial Reference: 103122
(6543)
Full Extent:
XMin: 1975002.8064575046
YMin: 34986.641560688615
XMax: 3052482.8064575046
YMax: 1034996.6415606886
Spatial Reference: 103122
(6543)
Pixel Size X: 10.0
Pixel Size Y: 10.0
Band Count: 1
Pixel Type: F32
RasterFunction Infos: {"rasterFunctionInfos": [{
"name": "None",
"description": "",
"help": ""
}]}
Mensuration Capabilities: Basic
Has Histograms: true
Has Colormap: false
Has Multi Dimensions : false
Rendering Rule:
Min Scale: 0
Max Scale: 0
Copyright Text:
Service Data Type: esriImageServiceDataTypeGeneric
Min Values: 5
Max Values: 5
Mean Values: 5
Standard Deviation Values: 0
Object ID Field:
Fields:
None
Default Mosaic Method: Center
Allowed Mosaic Methods:
SortField:
SortValue: null
Mosaic Operator: First
Default Compression Quality: 75
Default Resampling Method: Bilinear
Max Record Count: null
Max Image Height: 4100
Max Image Width: 15000
Max Download Image Count: null
Max Mosaic Image Count: null
Allow Raster Function: true
Allow Copy: true
Allow Analysis: true
Allow Compute TiePoints: false
Supports Statistics: false
Supports Advanced Queries: false
Use StandardizedQueries: true
Raster Type Infos:
Name: Raster Dataset
Description: Supports all ArcGIS Raster Datasets
Help:
Has Raster Attribute Table: false
Edit Fields Info: null
Ownership Based AccessControl For Rasters: null
Child Resources:
Info
Histograms
Statistics
Key Properties
Legend
Raster Function Infos
Supported Operations:
Export Image
Identify
Measure
Compute Histograms
Compute Statistics Histograms
Get Samples
Compute Class Statistics
Query Boundary
Compute Pixel Location
Validate
Project