View In:
ArcGIS JavaScript
ArcGIS Online Map Viewer
ArcGIS Earth
ArcMap
View Footprint In:
ArcGIS Online Map Viewer
Service Description: NNJ_Region_Map
Name: JCPL_AvianActivity/JCPL_Avian_Activity_DBO_NNJ_Region_Map
Description: NNJ_Region_Map
Single Fused Map Cache: false
Extent:
XMin: -75.41443608216565
YMin: 40.102832987165186
XMax: -74.05283708812472
YMax: 41.436231636433945
Spatial Reference: 4326
(4326)
Initial Extent:
XMin: -75.41443608216565
YMin: 40.102832987165186
XMax: -74.05283708812472
YMax: 41.436231636433945
Spatial Reference: 4326
(4326)
Full Extent:
XMin: -75.41443608216565
YMin: 40.102832987165186
XMax: -74.05283708812472
YMax: 41.436231636433945
Spatial Reference: 4326
(4326)
Pixel Size X: 6.957583004808033E-4
Pixel Size Y: 6.955652839169319E-4
Band Count: 3
Pixel Type: U8
RasterFunction Infos: {"rasterFunctionInfos": [{
"name": "None",
"description": "",
"help": ""
}]}
Mensuration Capabilities: Basic
Has Histograms: true
Has Colormap: false
Has Multi Dimensions : false
Rendering Rule:
Min Scale: 0
Max Scale: 0
Copyright Text:
Service Data Type: esriImageServiceDataTypeRGB
Min Values: 0, 0, 0
Max Values: 255, 255, 255
Mean Values: 215.91317713503616, 216.5157240580902, 206.57166160401695
Standard Deviation Values: 62.14929107572652, 55.08431398024213, 60.983845908647574
Object ID Field:
Fields:
None
Default Mosaic Method: Center
Allowed Mosaic Methods:
SortField:
SortValue: null
Mosaic Operator: First
Default Compression Quality: 75
Default Resampling Method: Bilinear
Max Record Count: null
Max Image Height: 4100
Max Image Width: 15000
Max Download Image Count: null
Max Mosaic Image Count: null
Allow Raster Function: true
Allow Copy: null
Allow Analysis: null
Allow Compute TiePoints: false
Supports Statistics: false
Supports Advanced Queries: false
Use StandardizedQueries: true
Raster Type Infos:
Name: Raster Dataset
Description: Supports all ArcGIS Raster Datasets
Help:
Has Raster Attribute Table: false
Edit Fields Info: null
Ownership Based AccessControl For Rasters: null
Child Resources:
Info
Histograms
Key Properties
Legend
Raster Function Infos
Supported Operations:
Export Image
Identify
Measure
Compute Histograms
Compute Statistics Histograms
Get Samples
Compute Class Statistics
Query Boundary
Compute Pixel Location
Validate
Project