View In:
ArcGIS JavaScript
ArcGIS Online Map Viewer
ArcGIS Earth
ArcMap
View Footprint In:
ArcGIS Online Map Viewer
Service Description: CNJ Region Map
Name: JCPL_AvianActivity/JCPL_Avian_Activity_DBO_CNJ_Region_Map
Description: CNJ Region Map
Single Fused Map Cache: false
Extent:
XMin: -74.82921048532683
YMin: 39.47907556721576
XMax: -73.87806468206153
YMax: 40.56399767237755
Spatial Reference: 4326
(4326)
Initial Extent:
XMin: -74.82921048532683
YMin: 39.47907556721576
XMax: -73.87806468206153
YMax: 40.56399767237755
Spatial Reference: 4326
(4326)
Full Extent:
XMin: -74.82921048532683
YMin: 39.47907556721576
XMax: -73.87806468206153
YMax: 40.56399767237755
Spatial Reference: 4326
(4326)
Pixel Size X: 1.7237147576391646E-4
Pixel Size Y: 1.7240141509006747E-4
Band Count: 3
Pixel Type: U8
RasterFunction Infos: {"rasterFunctionInfos": [{
"name": "None",
"description": "",
"help": ""
}]}
Mensuration Capabilities: Basic
Has Histograms: true
Has Colormap: false
Has Multi Dimensions : false
Rendering Rule:
Min Scale: 0
Max Scale: 0
Copyright Text:
Service Data Type: esriImageServiceDataTypeRGB
Min Values: 0, 0, 0
Max Values: 255, 255, 255
Mean Values: 212.51612459494208, 212.41263413064237, 198.82165574669776
Standard Deviation Values: 63.456666883998004, 54.94175086562384, 61.25680364003616
Object ID Field:
Fields:
None
Default Mosaic Method: Center
Allowed Mosaic Methods:
SortField:
SortValue: null
Mosaic Operator: First
Default Compression Quality: 75
Default Resampling Method: Bilinear
Max Record Count: null
Max Image Height: 4100
Max Image Width: 15000
Max Download Image Count: null
Max Mosaic Image Count: null
Allow Raster Function: true
Allow Copy: null
Allow Analysis: null
Allow Compute TiePoints: false
Supports Statistics: false
Supports Advanced Queries: false
Use StandardizedQueries: true
Raster Type Infos:
Name: Raster Dataset
Description: Supports all ArcGIS Raster Datasets
Help:
Has Raster Attribute Table: false
Edit Fields Info: null
Ownership Based AccessControl For Rasters: null
Child Resources:
Info
Histograms
Key Properties
Legend
Raster Function Infos
Supported Operations:
Export Image
Identify
Measure
Compute Histograms
Compute Statistics Histograms
Get Samples
Compute Class Statistics
Query Boundary
Compute Pixel Location
Validate
Project