View In:
ArcGIS JavaScript
ArcGIS Online Map Viewer
ArcGIS Earth
ArcMap
View Footprint In:
ArcGIS Online Map Viewer
Service Description: HB_PA_SR981_Y10/Subsurface_Anomaly_Outline_geophysical_Figure_19
Name: HB_PA_SR981_Y10/Subsurface_Anomaly_Outline_geophysical_Figure_19
Description:
Single Fused Map Cache: false
Extent:
XMin: 1496625.6250365437
YMin: 333162.4224425337
XMax: 1496759.0514049744
YMax: 333304.9259843555
Spatial Reference: 102729
(2272)
Initial Extent:
XMin: 1496625.6250365437
YMin: 333162.4224425337
XMax: 1496759.0514049744
YMax: 333304.9259843555
Spatial Reference: 102729
(2272)
Full Extent:
XMin: 1496625.6250365437
YMin: 333162.4224425337
XMax: 1496759.0514049744
YMax: 333304.9259843555
Spatial Reference: 102729
(2272)
Pixel Size X: 0.2138243083825681
Pixel Size Y: 0.2902312460728891
Band Count: 4
Pixel Type: U8
RasterFunction Infos: {"rasterFunctionInfos": [{
"name": "None",
"description": "",
"help": ""
}]}
Mensuration Capabilities: Basic
Has Histograms: true
Has Colormap: false
Has Multi Dimensions : false
Rendering Rule:
Min Scale: 0
Max Scale: 0
Copyright Text:
Service Data Type: esriImageServiceDataTypeGeneric
Min Values: 0, 0, 0, 0
Max Values: 255, 255, 255, 255
Mean Values: 133.89362042404304, 148.27983347694396, 170.34475690636586, 191.50805851480496
Standard Deviation Values: 88.85955350110721, 80.12764121337175, 74.786082126625, 74.4202595291556
Object ID Field:
Fields:
None
Default Mosaic Method: Center
Allowed Mosaic Methods:
SortField:
SortValue: null
Mosaic Operator: First
Default Compression Quality: 75
Default Resampling Method: Bilinear
Max Record Count: null
Max Image Height: 4100
Max Image Width: 15000
Max Download Image Count: null
Max Mosaic Image Count: null
Allow Raster Function: true
Allow Copy: null
Allow Analysis: null
Allow Compute TiePoints: false
Supports Statistics: false
Supports Advanced Queries: false
Use StandardizedQueries: true
Raster Type Infos:
Name: Raster Dataset
Description: Supports all ArcGIS Raster Datasets
Help:
Has Raster Attribute Table: false
Edit Fields Info: null
Ownership Based AccessControl For Rasters: null
Child Resources:
Info
Histograms
Key Properties
Legend
Raster Function Infos
Supported Operations:
Export Image
Identify
Measure
Compute Histograms
Compute Statistics Histograms
Get Samples
Compute Class Statistics
Query Boundary
Compute Pixel Location
Validate
Project