View In:
ArcGIS JavaScript
ArcGIS Online Map Viewer
ArcGIS Earth
ArcMap
View Footprint In:
ArcGIS Online Map Viewer
Service Description: HB_PA_Laurel_Valley_DBO_Q20_1939
Name: HB_CR_ImageServices/HB_PA_Laurel_Valley_DBO_Q20_1939
Description: HB_PA_Laurel_Valley_DBO_Q20_1939
Single Fused Map Cache: false
Extent:
XMin: 1464326.5720297578
YMin: 305946.414244944
XMax: 1481848.9513753892
YMax: 324372.81328124675
Spatial Reference: 103142
(6565)
Initial Extent:
XMin: 1464326.5720297578
YMin: 305946.414244944
XMax: 1481848.9513753892
YMax: 324372.81328124675
Spatial Reference: 103142
(6565)
Full Extent:
XMin: 1464326.5720297578
YMin: 305946.414244944
XMax: 1481848.9513753892
YMax: 324372.81328124675
Spatial Reference: 103142
(6565)
Pixel Size X: 2.3479002205053545
Pixel Size Y: 2.26424171003966
Band Count: 3
Pixel Type: U8
RasterFunction Infos: {"rasterFunctionInfos": [{
"name": "None",
"description": "",
"help": ""
}]}
Mensuration Capabilities: Basic
Has Histograms: true
Has Colormap: false
Has Multi Dimensions : false
Rendering Rule:
Min Scale: 0
Max Scale: 0
Copyright Text:
Service Data Type: esriImageServiceDataTypeRGB
Min Values: 0, 0, 0
Max Values: 255, 255, 255
Mean Values: 149.48626414436723, 149.48626414436723, 149.48626414436723
Standard Deviation Values: 49.735728739815784, 49.735728739815784, 49.735728739815784
Object ID Field:
Fields:
None
Default Mosaic Method: Center
Allowed Mosaic Methods:
SortField:
SortValue: null
Mosaic Operator: First
Default Compression Quality: 75
Default Resampling Method: Bilinear
Max Record Count: null
Max Image Height: 4100
Max Image Width: 15000
Max Download Image Count: null
Max Mosaic Image Count: null
Allow Raster Function: true
Allow Copy: null
Allow Analysis: null
Allow Compute TiePoints: false
Supports Statistics: false
Supports Advanced Queries: false
Use StandardizedQueries: true
Raster Type Infos:
Name: Raster Dataset
Description: Supports all ArcGIS Raster Datasets
Help:
Has Raster Attribute Table: false
Edit Fields Info: null
Ownership Based AccessControl For Rasters: null
Child Resources:
Info
Histograms
Key Properties
Legend
Raster Function Infos
Supported Operations:
Export Image
Identify
Measure
Compute Histograms
Compute Statistics Histograms
Get Samples
Compute Class Statistics
Query Boundary
Compute Pixel Location
Validate
Project