View In:
ArcGIS JavaScript
ArcGIS Online Map Viewer
ArcGIS Earth
ArcMap
View Footprint In:
ArcGIS Online Map Viewer
Service Description: PreParkway
Name: Frasier_St_Bridge/Frazier_St_Bridge_DBO_Pre_Parkway_tif
Description: PreParkway
Single Fused Map Cache: false
Extent:
XMin: 1354813.5295997853
YMin: 405387.1736343808
XMax: 1357299.9425627852
YMax: 407061.0188703808
Spatial Reference: 102729
(2272)
Initial Extent:
XMin: 1354813.5295997853
YMin: 405387.1736343808
XMax: 1357299.9425627852
YMax: 407061.0188703808
Spatial Reference: 102729
(2272)
Full Extent:
XMin: 1354813.5295997853
YMin: 405387.1736343808
XMax: 1357299.9425627852
YMax: 407061.0188703808
Spatial Reference: 102729
(2272)
Pixel Size X: 2.214080999999905
Pixel Size Y: 2.2140810000000304
Band Count: 4
Pixel Type: U16
RasterFunction Infos: {"rasterFunctionInfos": [{
"name": "None",
"description": "",
"help": ""
}]}
Mensuration Capabilities: Basic
Has Histograms: true
Has Colormap: false
Has Multi Dimensions : false
Rendering Rule:
Min Scale: 0
Max Scale: 0
Copyright Text:
Service Data Type: esriImageServiceDataTypeGeneric
Min Values: 72, 72, 72, 255
Max Values: 221, 221, 221, 255
Mean Values: 131.67325761658, 131.67325761658, 131.67325761658, 255
Standard Deviation Values: 28.890234498313, 28.890234498313, 28.890234498313, 0
Object ID Field:
Fields:
None
Default Mosaic Method: Center
Allowed Mosaic Methods:
SortField:
SortValue: null
Mosaic Operator: First
Default Compression Quality: 75
Default Resampling Method: Bilinear
Max Record Count: null
Max Image Height: 4100
Max Image Width: 15000
Max Download Image Count: null
Max Mosaic Image Count: null
Allow Raster Function: true
Allow Copy: null
Allow Analysis: null
Allow Compute TiePoints: false
Supports Statistics: false
Supports Advanced Queries: false
Use StandardizedQueries: true
Raster Type Infos:
Name: Raster Dataset
Description: Supports all ArcGIS Raster Datasets
Help:
Has Raster Attribute Table: false
Edit Fields Info: null
Ownership Based AccessControl For Rasters: null
Child Resources:
Info
Histograms
Key Properties
Legend
Raster Function Infos
Supported Operations:
Export Image
Identify
Measure
Compute Histograms
Compute Statistics Histograms
Get Samples
Compute Class Statistics
Query Boundary
Compute Pixel Location
Validate
Project