View In:
ArcGIS JavaScript
ArcGIS Online Map Viewer
ArcGIS Earth
ArcMap
View Footprint In:
ArcGIS Online Map Viewer
Service Description: Archaeology_Blackwater/Blackwater_Archaeology_DBO_GeophysicalSurveyMap
Name: Archaeology_Blackwater/Blackwater_Archaeology_DBO_GeophysicalSurveyMap
Description:
Single Fused Map Cache: false
Extent:
XMin: 395945.21762290626
YMin: 4257392.541476725
XMax: 396279.59680989647
YMax: 4257651.967677481
Spatial Reference: 26918
(26918)
Initial Extent:
XMin: 395945.21762290626
YMin: 4257392.541476725
XMax: 396279.59680989647
YMax: 4257651.967677481
Spatial Reference: 26918
(26918)
Full Extent:
XMin: 395945.21762290626
YMin: 4257392.541476725
XMax: 396279.59680989647
YMax: 4257651.967677481
Spatial Reference: 26918
(26918)
Pixel Size X: 0.20204180482791856
Pixel Size Y: 0.20204532769148897
Band Count: 3
Pixel Type: U8
RasterFunction Infos: {"rasterFunctionInfos": [{
"name": "None",
"description": "",
"help": ""
}]}
Mensuration Capabilities: Basic
Has Histograms: true
Has Colormap: false
Has Multi Dimensions : false
Rendering Rule:
Min Scale: 0
Max Scale: 0
Copyright Text:
Service Data Type: esriImageServiceDataTypeRGB
Min Values: 0, 0, 0
Max Values: 255, 255, 255
Mean Values: 183.75683181547072, 180.62628822375666, 177.10935206001102
Standard Deviation Values: 77.70878650081788, 79.87245624875574, 80.92477479475697
Object ID Field:
Fields:
None
Default Mosaic Method: Center
Allowed Mosaic Methods:
SortField:
SortValue: null
Mosaic Operator: First
Default Compression Quality: 75
Default Resampling Method: Bilinear
Max Record Count: null
Max Image Height: 4100
Max Image Width: 15000
Max Download Image Count: null
Max Mosaic Image Count: null
Allow Raster Function: true
Allow Copy: null
Allow Analysis: null
Allow Compute TiePoints: false
Supports Statistics: false
Supports Advanced Queries: false
Use StandardizedQueries: true
Raster Type Infos:
Name: Raster Dataset
Description: Supports all ArcGIS Raster Datasets
Help:
Has Raster Attribute Table: false
Edit Fields Info: null
Ownership Based AccessControl For Rasters: null
Child Resources:
Info
Histograms
Key Properties
Legend
Raster Function Infos
Supported Operations:
Export Image
Identify
Measure
Compute Histograms
Compute Statistics Histograms
Get Samples
Compute Class Statistics
Query Boundary
Compute Pixel Location
Validate
Project