View In:
ArcGIS JavaScript
ArcGIS Online Map Viewer
ArcGIS Earth
ArcMap
View Footprint In:
ArcGIS Online Map Viewer
Service Description: Sea Level Rise - 8ft
Name: AACo_Roadway_Vulnerability_Assessment/AACo_Roadway_Vulnerability_DBO_MD_West_slr_depth_8ft
Description: Sea Level Rise - 8ft
Single Fused Map Cache: false
Extent:
XMin: -77.18827082440203
YMin: 38.30414912384853
XMax: -76.28651499274432
YMax: 39.7222026819011
Spatial Reference: 4269
(4269)
Initial Extent:
XMin: -77.18827082440203
YMin: 38.30414912384853
XMax: -76.28651499274432
YMax: 39.7222026819011
Spatial Reference: 4269
(4269)
Full Extent:
XMin: -77.18827082440203
YMin: 38.30414912384853
XMax: -76.28651499274432
YMax: 39.7222026819011
Spatial Reference: 4269
(4269)
Pixel Size X: 2.694945852358595E-5
Pixel Size Y: 2.6949458523585964E-5
Band Count: 1
Pixel Type: F32
RasterFunction Infos: {"rasterFunctionInfos": [{
"name": "None",
"description": "",
"help": ""
}]}
Mensuration Capabilities: Basic
Has Histograms: true
Has Colormap: false
Has Multi Dimensions : false
Rendering Rule:
Min Scale: 0
Max Scale: 0
Copyright Text:
Service Data Type: esriImageServiceDataTypeGeneric
Min Values: 0
Max Values: 101.98471069335938
Mean Values: 88.29880008216115
Standard Deviation Values: 34.058371521676364
Object ID Field:
Fields:
None
Default Mosaic Method: Center
Allowed Mosaic Methods:
SortField:
SortValue: null
Mosaic Operator: First
Default Compression Quality: 75
Default Resampling Method: Bilinear
Max Record Count: null
Max Image Height: 4100
Max Image Width: 15000
Max Download Image Count: null
Max Mosaic Image Count: null
Allow Raster Function: true
Allow Copy: null
Allow Analysis: null
Allow Compute TiePoints: false
Supports Statistics: false
Supports Advanced Queries: false
Use StandardizedQueries: true
Raster Type Infos:
Name: Raster Dataset
Description: Supports all ArcGIS Raster Datasets
Help:
Has Raster Attribute Table: false
Edit Fields Info: null
Ownership Based AccessControl For Rasters: null
Child Resources:
Info
Histograms
Key Properties
Legend
Raster Function Infos
Supported Operations:
Export Image
Identify
Measure
Compute Histograms
Compute Statistics Histograms
Get Samples
Compute Class Statistics
Query Boundary
Compute Pixel Location
Validate
Project