View In:
ArcGIS JavaScript
ArcGIS Online Map Viewer
ArcGIS Earth
ArcMap
View Footprint In:
ArcGIS Online Map Viewer
Service Description: Anne Arundel Inundation
Name: AACo_RoadVulnProj_Final/AACo_RoadVulnProj_Final_DBO_Inundation
Description: Anne Arundel Inundation
Single Fused Map Cache: false
Extent:
XMin: 1287558.246926874
YMin: 237065.2734977454
XMax: 1499238.246926874
YMax: 640885.2734977454
Spatial Reference: 102685
(2248)
Initial Extent:
XMin: 1287558.246926874
YMin: 237065.2734977454
XMax: 1499238.246926874
YMax: 640885.2734977454
Spatial Reference: 102685
(2248)
Full Extent:
XMin: 1287558.246926874
YMin: 237065.2734977454
XMax: 1499238.246926874
YMax: 640885.2734977454
Spatial Reference: 102685
(2248)
Pixel Size X: 10.0
Pixel Size Y: 10.0
Band Count: 1
Pixel Type: U4
RasterFunction Infos: {"rasterFunctionInfos": [{
"name": "None",
"description": "",
"help": ""
}]}
Mensuration Capabilities: Basic
Has Histograms: true
Has Colormap: false
Has Multi Dimensions : false
Rendering Rule:
Min Scale: 0
Max Scale: 0
Copyright Text:
Service Data Type: esriImageServiceDataTypeGeneric
Min Values: 1
Max Values: 10
Mean Values: 5.2202297350243025
Standard Deviation Values: 3.0658309343161183
Object ID Field:
Fields:
None
Default Mosaic Method: Center
Allowed Mosaic Methods:
SortField:
SortValue: null
Mosaic Operator: First
Default Compression Quality: 75
Default Resampling Method: Bilinear
Max Record Count: null
Max Image Height: 4100
Max Image Width: 15000
Max Download Image Count: null
Max Mosaic Image Count: null
Allow Raster Function: true
Allow Copy: null
Allow Analysis: null
Allow Compute TiePoints: false
Supports Statistics: false
Supports Advanced Queries: false
Use StandardizedQueries: true
Raster Type Infos:
Name: Raster Dataset
Description: Supports all ArcGIS Raster Datasets
Help:
Has Raster Attribute Table: true
Edit Fields Info: null
Ownership Based AccessControl For Rasters: null
Child Resources:
Info
Raster Attribute Table
Histograms
Key Properties
Legend
Raster Function Infos
Supported Operations:
Export Image
Identify
Measure
Compute Histograms
Compute Statistics Histograms
Get Samples
Compute Class Statistics
Query Boundary
Compute Pixel Location
Validate
Project