{
 "currentVersion": 10.9,
 "serviceDescription": "SHA_Monarch/SHA_Monarch_DBO_lidar_vegetation_sample",
 "name": "SHA_Monarch/SHA_Monarch_DBO_lidar_vegetation_sample",
 "description": "",
 "extent": {
  "xmin": 1408417.6801213026,
  "ymin": 732750.999938637,
  "xmax": 1426420.1801213026,
  "ymax": 748750.999938637,
  "spatialReference": {
   "wkt": "PROJCS[\"NAD_1983_HARN_StatePlane_Maryland_FIPS_1900_Feet\",GEOGCS[\"GCS_North_American_1983_HARN\",DATUM[\"D_North_American_1983_HARN\",SPHEROID[\"GRS_1980\",6378137.0,298.257222101]],PRIMEM[\"Greenwich\",0.0],UNIT[\"Degree\",0.0174532925199433]],PROJECTION[\"Lambert_Conformal_Conic\"],PARAMETER[\"False_Easting\",1312333.333333333],PARAMETER[\"False_Northing\",0.0],PARAMETER[\"Central_Meridian\",-77.0],PARAMETER[\"Standard_Parallel_1\",38.3],PARAMETER[\"Standard_Parallel_2\",39.45],PARAMETER[\"Latitude_Of_Origin\",37.66666666666666],UNIT[\"Foot_US\",0.3048006096012192]],VERTCS[\"NAVD_1988\",VDATUM[\"North_American_Vertical_Datum_1988\"],PARAMETER[\"Vertical_Shift\",0.0],PARAMETER[\"Direction\",1.0],UNIT[\"Foot_US\",0.3048006096012192]]"
  }
 },
 "initialExtent": {
  "xmin": 1408417.6801213026,
  "ymin": 732750.999938637,
  "xmax": 1426420.1801213026,
  "ymax": 748750.999938637,
  "spatialReference": {
   "wkt": "PROJCS[\"NAD_1983_HARN_StatePlane_Maryland_FIPS_1900_Feet\",GEOGCS[\"GCS_North_American_1983_HARN\",DATUM[\"D_North_American_1983_HARN\",SPHEROID[\"GRS_1980\",6378137.0,298.257222101]],PRIMEM[\"Greenwich\",0.0],UNIT[\"Degree\",0.0174532925199433]],PROJECTION[\"Lambert_Conformal_Conic\"],PARAMETER[\"False_Easting\",1312333.333333333],PARAMETER[\"False_Northing\",0.0],PARAMETER[\"Central_Meridian\",-77.0],PARAMETER[\"Standard_Parallel_1\",38.3],PARAMETER[\"Standard_Parallel_2\",39.45],PARAMETER[\"Latitude_Of_Origin\",37.66666666666666],UNIT[\"Foot_US\",0.3048006096012192]],VERTCS[\"NAVD_1988\",VDATUM[\"North_American_Vertical_Datum_1988\"],PARAMETER[\"Vertical_Shift\",0.0],PARAMETER[\"Direction\",1.0],UNIT[\"Foot_US\",0.3048006096012192]]"
  }
 },
 "fullExtent": {
  "xmin": 1408417.6801213026,
  "ymin": 732750.999938637,
  "xmax": 1426420.1801213026,
  "ymax": 748750.999938637,
  "spatialReference": {
   "wkt": "PROJCS[\"NAD_1983_HARN_StatePlane_Maryland_FIPS_1900_Feet\",GEOGCS[\"GCS_North_American_1983_HARN\",DATUM[\"D_North_American_1983_HARN\",SPHEROID[\"GRS_1980\",6378137.0,298.257222101]],PRIMEM[\"Greenwich\",0.0],UNIT[\"Degree\",0.0174532925199433]],PROJECTION[\"Lambert_Conformal_Conic\"],PARAMETER[\"False_Easting\",1312333.333333333],PARAMETER[\"False_Northing\",0.0],PARAMETER[\"Central_Meridian\",-77.0],PARAMETER[\"Standard_Parallel_1\",38.3],PARAMETER[\"Standard_Parallel_2\",39.45],PARAMETER[\"Latitude_Of_Origin\",37.66666666666666],UNIT[\"Foot_US\",0.3048006096012192]],VERTCS[\"NAVD_1988\",VDATUM[\"North_American_Vertical_Datum_1988\"],PARAMETER[\"Vertical_Shift\",0.0],PARAMETER[\"Direction\",1.0],UNIT[\"Foot_US\",0.3048006096012192]]"
  }
 },
 "heightModelInfo": {
  "heightModel": "gravity_related_height",
  "vertCRS": "NAVD_1988",
  "heightUnit": "us-foot"
 },
 "hasMultidimensions": false,
 "pixelSizeX": 2.5,
 "pixelSizeY": 2.5,
 "datasetFormat": "SDR",
 "uncompressedSize": 46086400,
 "blockWidth": 128,
 "blockHeight": 128,
 "compressionType": "LZ77",
 "bandNames": [
  "Band_1"
 ],
 "allowCopy": true,
 "allowAnalysis": true,
 "bandCount": 1,
 "pixelType": "U8",
 "minPixelSize": 0,
 "maxPixelSize": 0,
 "copyrightText": "",
 "serviceDataType": "esriImageServiceDataTypeGeneric",
 "serviceSourceType": "esriImageServiceSourceTypeDataset",
 "minValues": [
  1
 ],
 "maxValues": [
  3
 ],
 "meanValues": [
  2.802922438607759
 ],
 "stdvValues": [
  0.45649586370721706
 ],
 "objectIdField": "",
 "fields": [],
 "capabilities": "Image,Metadata,Mensuration",
 "defaultMosaicMethod": "Center",
 "allowedMosaicMethods": "",
 "sortField": "",
 "sortValue": null,
 "sortAscending": true,
 "mosaicOperator": "First",
 "defaultCompressionQuality": 75,
 "defaultResamplingMethod": "Bilinear",
 "maxImageHeight": 4100,
 "maxImageWidth": 15000,
 "allowRasterFunction": true,
 "rasterFunctionInfos": [
  {
   "name": "None",
   "description": "",
   "help": ""
  }
 ],
 "rasterTypeInfos": [
  {
   "name": "Raster Dataset",
   "description": "Supports all ArcGIS Raster Datasets",
   "help": ""
  }
 ],
 "mensurationCapabilities": "Basic",
 "hasHistograms": true,
 "hasColormap": false,
 "hasRasterAttributeTable": true,
 "minScale": 0,
 "maxScale": 0,
 "exportTilesAllowed": false,
 "supportsStatistics": false,
 "supportsAdvancedQueries": false,
 "editFieldsInfo": null,
 "ownershipBasedAccessControlForRasters": null,
 "allowComputeTiePoints": false,
 "useStandardizedQueries": true,
 "advancedQueryCapabilities": {
  "useStandardizedQueries": true,
  "supportsStatistics": false,
  "supportsOrderBy": false,
  "supportsDistinct": false,
  "supportsPagination": false
 },
 "spatialReference": {
  "wkt": "PROJCS[\"NAD_1983_HARN_StatePlane_Maryland_FIPS_1900_Feet\",GEOGCS[\"GCS_North_American_1983_HARN\",DATUM[\"D_North_American_1983_HARN\",SPHEROID[\"GRS_1980\",6378137.0,298.257222101]],PRIMEM[\"Greenwich\",0.0],UNIT[\"Degree\",0.0174532925199433]],PROJECTION[\"Lambert_Conformal_Conic\"],PARAMETER[\"False_Easting\",1312333.333333333],PARAMETER[\"False_Northing\",0.0],PARAMETER[\"Central_Meridian\",-77.0],PARAMETER[\"Standard_Parallel_1\",38.3],PARAMETER[\"Standard_Parallel_2\",39.45],PARAMETER[\"Latitude_Of_Origin\",37.66666666666666],UNIT[\"Foot_US\",0.3048006096012192]],VERTCS[\"NAVD_1988\",VDATUM[\"North_American_Vertical_Datum_1988\"],PARAMETER[\"Vertical_Shift\",0.0],PARAMETER[\"Direction\",1.0],UNIT[\"Foot_US\",0.3048006096012192]]"
 }
}
