{
 "currentVersion": 10.9,
 "serviceDescription": "NCDOT_HRAT/DBO_CRIS_Coastal_Inundation_04ft",
 "name": "NCDOT_HRAT/DBO_CRIS_Coastal_Inundation_04ft",
 "description": "",
 "extent": {
  "xmin": 1975002.8064575046,
  "ymin": 34986.641560688615,
  "xmax": 3052482.8064575046,
  "ymax": 1034996.6415606886,
  "spatialReference": {
   "wkid": 103122,
   "latestWkid": 6543
  }
 },
 "initialExtent": {
  "xmin": 1975002.8064575046,
  "ymin": 34986.641560688615,
  "xmax": 3052482.8064575046,
  "ymax": 1034996.6415606886,
  "spatialReference": {
   "wkid": 103122,
   "latestWkid": 6543
  }
 },
 "fullExtent": {
  "xmin": 1975002.8064575046,
  "ymin": 34986.641560688615,
  "xmax": 3052482.8064575046,
  "ymax": 1034996.6415606886,
  "spatialReference": {
   "wkid": 103122,
   "latestWkid": 6543
  }
 },
 "hasMultidimensions": false,
 "pixelSizeX": 10,
 "pixelSizeY": 10,
 "datasetFormat": "SDR",
 "uncompressedSize": 43099630992,
 "blockWidth": 128,
 "blockHeight": 128,
 "compressionType": "NONE",
 "bandNames": [
  "Band_1"
 ],
 "allowCopy": true,
 "allowAnalysis": true,
 "bandCount": 1,
 "pixelType": "F32",
 "minPixelSize": 0,
 "maxPixelSize": 0,
 "copyrightText": "",
 "serviceDataType": "esriImageServiceDataTypeGeneric",
 "serviceSourceType": "esriImageServiceSourceTypeDataset",
 "minValues": [
  4
 ],
 "maxValues": [
  4
 ],
 "meanValues": [
  4
 ],
 "stdvValues": [
  0
 ],
 "objectIdField": "",
 "fields": [],
 "capabilities": "Image,Metadata,Mensuration",
 "defaultMosaicMethod": "Center",
 "allowedMosaicMethods": "",
 "sortField": "",
 "sortValue": null,
 "sortAscending": true,
 "mosaicOperator": "First",
 "defaultCompressionQuality": 75,
 "defaultResamplingMethod": "Bilinear",
 "maxImageHeight": 4100,
 "maxImageWidth": 15000,
 "allowRasterFunction": true,
 "rasterFunctionInfos": [
  {
   "name": "None",
   "description": "",
   "help": ""
  }
 ],
 "rasterTypeInfos": [
  {
   "name": "Raster Dataset",
   "description": "Supports all ArcGIS Raster Datasets",
   "help": ""
  }
 ],
 "mensurationCapabilities": "Basic",
 "hasHistograms": true,
 "hasColormap": false,
 "hasRasterAttributeTable": false,
 "minScale": 0,
 "maxScale": 0,
 "exportTilesAllowed": false,
 "supportsStatistics": false,
 "supportsAdvancedQueries": false,
 "editFieldsInfo": null,
 "ownershipBasedAccessControlForRasters": null,
 "allowComputeTiePoints": false,
 "useStandardizedQueries": true,
 "advancedQueryCapabilities": {
  "useStandardizedQueries": true,
  "supportsStatistics": false,
  "supportsOrderBy": false,
  "supportsDistinct": false,
  "supportsPagination": false
 },
 "spatialReference": {
  "wkid": 103122,
  "latestWkid": 6543
 }
}
