{
 "currentVersion": 10.9,
 "serviceDescription": "Pre Parkway Imagery",
 "name": "Frasier_St_Bridge/Frazier_St_Bridge_DBO_PreParkwayImagery",
 "description": "Pre Parkway Imagery",
 "extent": {
  "xmin": 1354813.5295997853,
  "ymin": 405387.1736343809,
  "xmax": 1357299.9425627852,
  "ymax": 407061.0188703808,
  "spatialReference": {
   "wkid": 102729,
   "latestWkid": 2272
  }
 },
 "initialExtent": {
  "xmin": 1354813.5295997853,
  "ymin": 405387.1736343809,
  "xmax": 1357299.9425627852,
  "ymax": 407061.0188703808,
  "spatialReference": {
   "wkid": 102729,
   "latestWkid": 2272
  }
 },
 "fullExtent": {
  "xmin": 1354813.5295997853,
  "ymin": 405387.1736343809,
  "xmax": 1357299.9425627852,
  "ymax": 407061.0188703808,
  "spatialReference": {
   "wkid": 102729,
   "latestWkid": 2272
  }
 },
 "pixelSizeX": 2.214080999999905,
 "pixelSizeY": 2.2140809999998763,
 "bandCount": 4,
 "pixelType": "U16",
 "minPixelSize": 0,
 "maxPixelSize": 0,
 "copyrightText": "",
 "serviceDataType": "esriImageServiceDataTypeGeneric",
 "minValues": [
  72,
  72,
  72,
  72
 ],
 "maxValues": [
  221,
  221,
  221,
  255
 ],
 "meanValues": [
  131.6732576165793,
  131.6732576165793,
  131.6732576165793,
  162.50494321243448
 ],
 "stdvValues": [
  28.890234498313117,
  28.89022563304054,
  28.890222677951506,
  58.972561805463336
 ],
 "objectIdField": "",
 "fields": [],
 "capabilities": "Image,Metadata,Mensuration",
 "defaultMosaicMethod": "Center",
 "allowedMosaicMethods": "",
 "sortField": "",
 "sortValue": null,
 "sortAscending": true,
 "mosaicOperator": "First",
 "defaultCompressionQuality": 75,
 "defaultResamplingMethod": "Bilinear",
 "maxImageHeight": 4100,
 "maxImageWidth": 15000,
 "allowRasterFunction": true,
 "rasterFunctionInfos": [
  {
   "name": "None",
   "description": "",
   "help": ""
  }
 ],
 "rasterTypeInfos": [
  {
   "name": "Raster Dataset",
   "description": "Supports all ArcGIS Raster Datasets",
   "help": ""
  }
 ],
 "mensurationCapabilities": "Basic",
 "hasHistograms": true,
 "hasColormap": false,
 "hasRasterAttributeTable": false,
 "minScale": 0,
 "maxScale": 0,
 "exportTilesAllowed": false,
 "hasMultidimensions": false,
 "supportsStatistics": false,
 "supportsAdvancedQueries": false,
 "editFieldsInfo": null,
 "ownershipBasedAccessControlForRasters": null,
 "allowComputeTiePoints": false,
 "useStandardizedQueries": true,
 "advancedQueryCapabilities": {
  "useStandardizedQueries": true,
  "supportsStatistics": false,
  "supportsOrderBy": false,
  "supportsDistinct": false,
  "supportsPagination": false
 },
 "spatialReference": {
  "wkid": 102729,
  "latestWkid": 2272
 }
}
